BEGIN:VCALENDAR
PRODID:-//eluceo/ical//2.0/EN
VERSION:2.0
CALSCALE:GREGORIAN
BEGIN:VEVENT
UID:event-577
DTSTAMP:20260422T005918Z
SUMMARY:Dine & Discuss | Juribes
DESCRIPTION:DINE &amp\; DISCUSS – WOENSDAG 6 MEI ️ Op woensdagavond 6 m
 ei is het weer tijd voor de jaarlijkse Dine &amp\; Discuss! Tijdens dit ev
 enement krijg je de kans om in gesprek te gaan met verschillende sprekers 
 uit diverse werkvelden binnen de Bestuurskunde. Bij elke gang wissel je va
 n tafel\, waardoor je meerdere professionals spreekt. Dine &amp\; Discuss 
 is geschikt voor studenten in elke fase van hun studie. Het is een laagdre
 mpelige en informele manier om vragen te stellen\, inzichten op te doen va
 n ervaren professionals en tegelijkertijd te genieten van een goed diner. 
 Dit alles voor slechts €26\, inclusief een driegangendiner en meerdere d
 rankjes!
DTSTART:20260506T170000Z
DTEND:20260506T200000Z
LOCATION:T-Huis
END:VEVENT
BEGIN:VTIMEZONE
TZID:UTC
BEGIN:STANDARD
DTSTART:20260506T170000
TZNAME:UTC
TZOFFSETTO:+0000
TZOFFSETFROM:+0000
END:STANDARD
END:VTIMEZONE
END:VCALENDAR
