BEGIN:VCALENDAR
PRODID:-//eluceo/ical//2.0/EN
VERSION:2.0
CALSCALE:GREGORIAN
BEGIN:VEVENT
UID:event-578
DTSTAMP:20260422T005705Z
SUMMARY:Jong Justitia Bier Spelen 
DESCRIPTION:Kun jij een bierestafette winnen of ben jij het beste in ring w
 erpen? Test jouw  sportcapaciteiten in de Jong Justitia Olympische Biersp
 elen! Kom een dag  genieten van koud bier\, leuke sporten en goed eten ac
 hteraf allemaal in een  zacht prijsje inbegrepen!
DTSTART:20260506T170000Z
DTEND:20260506T200000Z
LOCATION:Spoorpark
END:VEVENT
BEGIN:VTIMEZONE
TZID:UTC
BEGIN:STANDARD
DTSTART:20260506T170000
TZNAME:UTC
TZOFFSETTO:+0000
TZOFFSETFROM:+0000
END:STANDARD
END:VTIMEZONE
END:VCALENDAR
