BEGIN:VCALENDAR
PRODID:-//eluceo/ical//2.0/EN
VERSION:2.0
CALSCALE:GREGORIAN
BEGIN:VEVENT
UID:event-579
DTSTAMP:20260422T234149Z
SUMMARY:Undercover Cantus | Juribes vrienden- en familieactiviteit 
DESCRIPTION:Poets je vergrootglas\, leg je vermomming klaar\, en zorg dat e
 r niemand meeleest. Wij nodigen jullie namelijk uit voor deze undercover 
 vrienden en familie cantus!   Op 20 mei zullen we al zingend en drinkend
  op onderzoek uitgaan naar wie toch al die kannen heeft gestolen. Deze be
 langrijke missie  kunnen we natuurlijk niet alleen\, en dus mag iedereen 
 3 collega  spionnen uit je familie- of vriendengroep meenemen naar deze c
 antus.  Een echte spion gaat nooit zonder vermomming op stap\, dus trek j
 e  beste undercover outfit aan! Doe je dit niet? Dan zal je deze missie n
 iet  ongeschonden verlaten…   Hopelijk zien we jullie allemaal op 20 
 mei!  Liefs\,   De AcCie en ExcurCie Juribes 
DTSTART:20260520T174500Z
DTEND:20260520T203000Z
LOCATION:Café de Boekanier 
END:VEVENT
BEGIN:VTIMEZONE
TZID:UTC
BEGIN:STANDARD
DTSTART:20260520T174500
TZNAME:UTC
TZOFFSETTO:+0000
TZOFFSETFROM:+0000
END:STANDARD
END:VTIMEZONE
END:VCALENDAR
