BEGIN:VCALENDAR
PRODID:-//eluceo/ical//2.0/EN
VERSION:2.0
CALSCALE:GREGORIAN
BEGIN:VEVENT
UID:event-377
DTSTAMP:20260424T154347Z
SUMMARY:Sportcommittee: Tilburg Trappers
DESCRIPTION:Dear members\, On Friday\, January 17 at 20:00\, the Tilburg Tr
 appers will face off against the Saale Bulls Halle. This will also be the 
 first Sports Committee activity of the year! There are only a limited numb
 er of tickets available\, so first come\, first served.
DTSTART:20250117T190000Z
DTEND:20250117T220000Z
END:VEVENT
BEGIN:VTIMEZONE
TZID:UTC
BEGIN:STANDARD
DTSTART:20250117T190000
TZNAME:UTC
TZOFFSETTO:+0000
TZOFFSETFROM:+0000
END:STANDARD
END:VTIMEZONE
END:VCALENDAR
